BEGIN:VCALENDAR
VERSION:2.0
PRODID:-//Kitchen Buddy - ECPv6.0.8//NONSGML v1.0//EN
CALSCALE:GREGORIAN
METHOD:PUBLISH
X-WR-CALNAME:Kitchen Buddy
X-ORIGINAL-URL:http://littlemisstree.co.uk
X-WR-CALDESC:Events for Kitchen Buddy
REFRESH-INTERVAL;VALUE=DURATION:PT1H
X-Robots-Tag:noindex
X-PUBLISHED-TTL:PT1H
BEGIN:VTIMEZONE
TZID:UTC
BEGIN:STANDARD
TZOFFSETFROM:+0000
TZOFFSETTO:+0000
TZNAME:UTC
DTSTART:20190101T000000
END:STANDARD
END:VTIMEZONE
BEGIN:VEVENT
DTSTART;TZID=UTC:20220116T170000
DTEND;TZID=UTC:20220116T183000
DTSTAMP:20260420T004423
CREATED:20220104T230208Z
LAST-MODIFIED:20220104T232334Z
UID:13897-1642352400-1642357800@littlemisstree.co.uk
SUMMARY:Living foods\, detox and nutrition
DESCRIPTION:Green your Eats
URL:http://littlemisstree.co.uk/event/living-foods-detox-and-nutrition/
CATEGORIES:Detox,Food
ATTACH;FMTTYPE=image/jpeg:http://littlemisstree.co.uk/wp-content/uploads/2020/09/28584945-1AA8-4121-A58C-CBEA50F8E124-scaled.jpeg
END:VEVENT
BEGIN:VEVENT
DTSTART;TZID=UTC:20211205T123000
DTEND;TZID=UTC:20211205T163000
DTSTAMP:20260420T004423
CREATED:20211201T162914Z
LAST-MODIFIED:20211201T170506Z
UID:13875-1638707400-1638721800@littlemisstree.co.uk
SUMMARY:Festive Foliage! Table and Door Wreaths Class
DESCRIPTION:CHEER UP YOUR HOME! \n\n\n\n\n\nLift spirits this Christmas by Brightening up your entrance hall with a wreath! \n\n\n\nLearn the peaceful art of designing your own natural decorations\, make an arrangement to decorate your home over the festive period. Full instruction given. \n\n\n\nChoose your own fresh foliage from our gorgeous collection of specially selected evergreen branches\, berries\, dried flowers and mini-medium cones. \n\n\n\nWe’ll be making either door or table decorations (and place a candle in the centre.) \n\n\n\nBRING: your own pair of secateurs or strong scissors for cutting plant stems\, if you have them (we will provide a pair to share). \n\n\n\nLoveGift provides a full lunch menu of meals\, light snacks and delicious drinks to enjoy. \n\n\n\n\n\n\n\n\n\nPoster Wreath ClassDownload
URL:http://littlemisstree.co.uk/event/festive-foliage-table-and-door-wreaths-class/
CATEGORIES:Crafts Workshop,Festival
ATTACH;FMTTYPE=image/jpeg:http://littlemisstree.co.uk/wp-content/uploads/2021/12/image1.jpeg
ORGANIZER;CN="Kitchen%20Buddy":MAILTO:info@littlemisstree.co.uk
END:VEVENT
BEGIN:VEVENT
DTSTART;TZID=UTC:20211016T110000
DTEND;TZID=UTC:20211016T123000
DTSTAMP:20260420T004423
CREATED:20211006T221142Z
LAST-MODIFIED:20211006T221647Z
UID:13860-1634382000-1634387400@littlemisstree.co.uk
SUMMARY:Foraging Tour with Theresa Webb
DESCRIPTION:Beckenham Place Park meet in the café stables yard (toilets available) 11am.Wild Herbal tea drink and body scrub skin care. \n\n\n\n\n\n\n\nTheresa Webb Dip NTKitchen Buddy Nutritional Therapist\,Complementary Health Centre\, Lee.London National Park City Ranger07734166738
URL:http://littlemisstree.co.uk/event/foraging-tour-with-theresa-webb/
CATEGORIES:Foraging Walks
ATTACH;FMTTYPE=image/jpeg:http://littlemisstree.co.uk/wp-content/uploads/2021/05/IMG_6638-edit-scaled.jpg
END:VEVENT
BEGIN:VEVENT
DTSTART;TZID=UTC:20211010T110000
DTEND;TZID=UTC:20211010T160000
DTSTAMP:20260420T004423
CREATED:20210922T213824Z
LAST-MODIFIED:20210922T213827Z
UID:13856-1633863600-1633881600@littlemisstree.co.uk
SUMMARY:Wild Cat Wilderness Open Day
DESCRIPTION:ActivityCreativeGardeningGreat family activityopen day \n\n\n\nCatford Arts Trail – natural dyeing\, eco-printing\, weaving\, bushcraft workshops \n\n\n\nWe will be running a series of free outdoor community workshops for all ages using natural materials. Drop in anytime. Last entry 3.30pm. \n\n\n\nLiz is running an autumn natural dyeing session using plants and flowers from the wilderness plus make your own ecoprint. \n\n\n\nOther activities include natural weaving with sticks and wool\, make a wood bracelet or carve your own butter knife. \n\n\n\nIf you are planning to come along let us know in advance if possible so we can plan refreshments\, etc. \n\n\n\nYou must log in or register to make a booking.https://wildcatwilderness.org/sign-up/?redirect=true
URL:http://littlemisstree.co.uk/event/wild-cat-wilderness-open-day/
CATEGORIES:Open Gardens
ATTACH;FMTTYPE=image/jpeg:http://littlemisstree.co.uk/wp-content/uploads/2020/09/F39F43E7-6D0B-4582-B91C-1BA27C8ADC44-scaled.jpeg
END:VEVENT
BEGIN:VEVENT
DTSTART;TZID=UTC:20210812T000000
DTEND;TZID=UTC:20210816T170000
DTSTAMP:20260420T004423
CREATED:20210806T144952Z
LAST-MODIFIED:20210806T151555Z
UID:13816-1628726400-1629133200@littlemisstree.co.uk
SUMMARY:Vegan Organic Fest 2021 Cornwall
DESCRIPTION:The Vegan Organic Fest 2021 is going ahead and are looking forward to a fun\, entertaining and thought provoking back to nature veganic event. \n\n\n\n\n\n\n\nThe Vegan Organic Fest will be at Chyan Cultural Centre; an eleven acre site deep in the Cornish countryside with a capacity of about 200 people\, camping facilities\, on site hostel and nearby alternative accommodation. \n\n\n\nChyan is an off grid veganic apple farm with its own supply of spring water. The venue hosts many events and is a wonderful place for returning to nature\, some of the land is wild\, some is nature reserve and there is plenty of flat meadow for camping. Chyan has a 200-seater geodesic dome theatre\, two large modern barns for classes plus several marquees. The centre has its own wind turbine\, which provides electricity for the whole site\, the hot showers\, swimming pool and sauna are all fed by natural spring water. We are blessed to be able to hold the festival in such a beautiful\, peaceful and positive space. https://chyan.org/. \n\n\n\nThe event is from midday on Thursday 12th August-Monday 16th August with activities happening from Friday-Sunday. \n\n\n\nNo dogs allowed. \n\n\n\nBooking code : Theresa101 for a 10% discount. \n\n\n\nTheresa Webb
URL:http://littlemisstree.co.uk/event/vegan-organic-fest-2021-cornwall/
CATEGORIES:Festival
ATTACH;FMTTYPE=image/png:http://littlemisstree.co.uk/wp-content/uploads/2021/08/Vegan-Organic-Fest-2021-Cornwall.png
END:VEVENT
BEGIN:VEVENT
DTSTART;TZID=UTC:20210522T103000
DTEND;TZID=UTC:20210522T123000
DTSTAMP:20260420T004423
CREATED:20210427T215301Z
LAST-MODIFIED:20210429T213807Z
UID:13762-1621679400-1621686600@littlemisstree.co.uk
SUMMARY:Nature and nurture in Downham: a guided nature walk
DESCRIPTION:This walk starts at Goldsmiths Community Centre in Downham\, Lewisham and ends in Beckenham Place Park\, southeast London’s largest park. \n\n\n\nAlong the way\, participants will be encouraged to look closely at their surroundings\, to observe the nature that can easily get missed as we dash from place to place. \n\n\n\nTheresa Web\, the walk leader\, is experienced at leading nature walks and is a seasoned medicinal plant urban forager. She will offer information along the way on the medicinal and wellbeing uses of different plants and trees that are encountered. \n\n\n\nThis area of southeast London is often off people’s radar. It is largely residential and is wonderfully green. This two hour guided walk will be an opportunity to get off the beaten track and be reminded just how we can benefit from being in and observing nature\, even when living in urban environments. \n\n\n\nThe walk is suitable for all ages\, but children must be accompanied by a responsible adult. Booking essential as numbers limited. \n\n\n\nAbout your guide: Theresa Webb is a Nutritional Therapist\, Raw Vegan Chef and Chocolatier\, and London National Park City Ranger. Theresa has experience of leading nature walks across London and further afield\, and has a wealth of knowledge on all things nutrition and medicinal plant-related\, including the impact that local and seasonal plants have on our wellbeing. \n\n\n\nThis event is part of the Urban Tree Festival 2021. Taking place 15th – 23rd May\, the festival will celebrate our urban trees through art\, literature\, theatre\, online talks\, webinars\, workshops\, tree walks\, music and well-being. Events are taking place in London and beyond\, many of which are online so you can enjoy them from the comfort of your home. We would love for you to join us! Visit our website to find out more: www.urbantreefestival.org \n\n\n\n\n\n\n\n\n\n\n\n\n\n\nRegister on Eventbrite
URL:http://littlemisstree.co.uk/event/nature-and-nurture-in-downham-a-guided-nature-walk/
LOCATION:Goldsmiths Community Centre\, Castillon Road\, Catford\, SE6 1QD\, United Kingdom
CATEGORIES:Foraging Walks
ATTACH;FMTTYPE=image/jpeg:http://littlemisstree.co.uk/wp-content/uploads/2019/02/t-ivy-IMG_6331-1072px-985px-Edit.jpg
END:VEVENT
BEGIN:VEVENT
DTSTART;TZID=UTC:20201206T120000
DTEND;TZID=UTC:20201206T170000
DTSTAMP:20260420T004423
CREATED:20201114T161021Z
LAST-MODIFIED:20201116T130634Z
UID:13591-1607256000-1607274000@littlemisstree.co.uk
SUMMARY:Christmas Crafts Workshop
DESCRIPTION:Kitchen Buddy \n\n\n\nChristmas Crafts Workshop \n\n\n\nTuition by Theresa Webb \n\n\n\nSunday 6th December 2020 \n\n\n\nStarts at 12pm\, Lunch at 12.30pm\, Course starts at 1.30pm finished by 5pm. \n\n\n\nVenue: LoveGift café\, 386 Lee High Road\, London SE12 8RW \n\n\n\nSmall group limited to 5 places (full COVID sanitiser and spacing provided). \n\n\n\nWorkshop 1. Fresh Decorative Table Wreath display with pillar candle and 12”circular oasis base \n\n\n\nWorkshop 2. Christmas Door Wreath design\, with all natural 9.5” willow base \n\n\n\nWarm up inside LoveGift and roll up your sleeves to decorate your home with festive holly\, ivy and more! \n\n\n\nTheresa provides a selection of wild harvested fresh foliage\, ribbon\, dried flowers\, cones and berries to create your dream decorations.
URL:http://littlemisstree.co.uk/event/christmas-crafts-workshop/
LOCATION:LoveGift Vegan Cafe\, 386 Lee High Road\, London\, SE12 8RW\, United Kingdom
CATEGORIES:Crafts Workshop,Holistic
ATTACH;FMTTYPE=image/jpeg:http://littlemisstree.co.uk/wp-content/uploads/2019/02/t-ivy-IMG_6331-1072px-985px-Edit.jpg
END:VEVENT
BEGIN:VEVENT
DTSTART;TZID=UTC:20200920T130000
DTEND;TZID=UTC:20200920T150000
DTSTAMP:20260420T004423
CREATED:20200903T110711Z
LAST-MODIFIED:20200910T095343Z
UID:13328-1600606800-1600614000@littlemisstree.co.uk
SUMMARY:CANCELLED Rabbie's Hampstead Heath Walk Social
DESCRIPTION:Event CANCELLED due to new Covid-19 Rules \nFirst of the end of summer tours. An Invitation to a nature walk in Hampstead Heath\, for finding the local fungi. Rabbie is the organiser and I look forward to this meeting in the woodland after a couple of years break. Theresa Webb \nFollowing the success of the past nature walks I have organised\, this one is easier for everyone to attend.\nMeet 1pm at GOSPAL OAK station at 1pm\, then we have a pleasant stroll through HAMPSTEAD HEATH park\, and end near Hampstead tube\, and we can grab a bite/drink there.\n \nRSVP and let me know if you like to invite anyone else\, so I will reserve a seating area in a bar/pub/cafe in Hampstead for after our walk. Dress code: Wear a smile. Rabs
URL:http://littlemisstree.co.uk/event/rabbies-hampstead-heath-walk-social/
LOCATION:Hampstead Heath\, Gospel Oak Station\, London\, NW5 1LT\, United Kingdom
CATEGORIES:Foraging Walks
ATTACH;FMTTYPE=image/jpeg:http://littlemisstree.co.uk/wp-content/uploads/2020/09/rabbies-hampstead-heath-walk-social.jpg
END:VEVENT
BEGIN:VEVENT
DTSTART;TZID=UTC:20191215T130000
DTEND;TZID=UTC:20191215T160000
DTSTAMP:20260420T004423
CREATED:20191205T232035Z
LAST-MODIFIED:20201114T161358Z
UID:8520-1576414800-1576425600@littlemisstree.co.uk
SUMMARY:Christmas wreath and table decoration workshop
DESCRIPTION:Traditional and contemporary styles\nTake away your own specially handcrafted floral wreath to display on a door or with a central candle for a table. \nWe recommend that children under 12 yrs are to be accompanied by an adult.  \nFull equipment and foliage provided\, practice develop your unique floristry skills.  \nDrinks\, light snacks and gourmet platters optional. (Food served all day) \nvenue: LoveGift vegan cafe\, lee high rd\, london SE23.\n\n£30/15.00 concs.\n\nTheresa Webb
URL:http://littlemisstree.co.uk/event/christmas-wreath-and-table-decoration-workshop/
LOCATION:lovegift\, Lee high rd\, London\, Se23\, United Kingdom
CATEGORIES:Holistic
ATTACH;FMTTYPE=image/jpeg:http://littlemisstree.co.uk/wp-content/uploads/2019/12/DSC02963-Edit-ivy-web-041219.jpg
ORGANIZER;CN="Kitchen%20Buddy":MAILTO:theresa@kitchenbuddies.eu
END:VEVENT
BEGIN:VEVENT
DTSTART;TZID=UTC:20190912T113000
DTEND;TZID=UTC:20190912T143000
DTSTAMP:20260420T004423
CREATED:20190825T152511Z
LAST-MODIFIED:20190825T152511Z
UID:3872-1568287800-1568298600@littlemisstree.co.uk
SUMMARY:Herbal Walk
DESCRIPTION:Guided herbal\, foraging walk around Mountsfield Park\, followed by Cooking Workshop at Quo Vadis Trust\, 2 Verdant Lane\, SE6 1LF using produce sourced.
URL:http://littlemisstree.co.uk/event/herbal-walk/
LOCATION:Mountsfield Park\, Brownhill Road\, Catford\, Lewisham\, United Kingdom
CATEGORIES:Foraging Walks
ATTACH;FMTTYPE=image/jpeg:http://littlemisstree.co.uk/wp-content/uploads/2019/04/IMG_6389-1000px-Edit.jpg
ORGANIZER;CN="Kitchen%20Buddy":MAILTO:theresa@kitchenbuddies.eu
END:VEVENT
BEGIN:VEVENT
DTSTART;TZID=UTC:20190726T100000
DTEND;TZID=UTC:20190726T120000
DTSTAMP:20260420T004423
CREATED:20190612T170116Z
LAST-MODIFIED:20190612T170116Z
UID:2065-1564135200-1564142400@littlemisstree.co.uk
SUMMARY:Macmillan Cancer Support Talk for Rushey Green Time Bank
DESCRIPTION:We will be joining Macmillan Cancer Support for a talk on optimal Nutrition for families and patients.
URL:http://littlemisstree.co.uk/event/macmillan-cancer-support-talk-for-rushey-green-time-bank/
LOCATION:Place Ladywell\, Unit B\, 261 Lewisham High Street\, London\, SE13 6AY
END:VEVENT
BEGIN:VEVENT
DTSTART;VALUE=DATE:20190718
DTEND;VALUE=DATE:20190722
DTSTAMP:20260420T004423
CREATED:20190509T131859Z
LAST-MODIFIED:20190612T170619Z
UID:1861-1563408000-1563753599@littlemisstree.co.uk
SUMMARY:Kitchen Buddy Urban Forager Summer 2019 tour: Buddhafield Festival
DESCRIPTION:Buddhafield Festival 2019 | Buddhafield \nBuddhafield Festival is a joyful gathering of around 4\,000 people\, celebrating community and connection with the land. Song\, dance\, arts and crafts\, yoga\, live music\, meditation\, and play blend together without drink or drugs to create a loving and life-affirming space.
URL:http://littlemisstree.co.uk/event/kitchen-buddy-urban-forager-festival-tour-summer-2019/
LOCATION:Buddhafield\, Buddhafield\, TA3 7DY\, United Kingdom
CATEGORIES:Festival
ATTACH;FMTTYPE=image/jpeg:http://littlemisstree.co.uk/wp-content/uploads/2018/11/web-banner-des2-1680x720.jpg
ORGANIZER;CN="Kitchen%20Buddy":MAILTO:theresa@kitchenbuddies.eu
END:VEVENT
BEGIN:VEVENT
DTSTART;TZID=UTC:20190526T140000
DTEND;TZID=UTC:20190526T170000
DTSTAMP:20260420T004423
CREATED:20190524T100458Z
LAST-MODIFIED:20190524T205801Z
UID:1869-1558879200-1558890000@littlemisstree.co.uk
SUMMARY:Hither Green Festival 2019 - The Verdant Lane Lamppost Community Garden Open Garden
DESCRIPTION:Hither Green Festival 2019\nThe Verdant Lane Lamppost Community Garden presents\nOpen Gardens Weekend\nSunday 26th May 2 pm – 5 pm \nAn opportunity to meet the gardeners and take home a colourful new selection of new seasonal plants! \nChildren’s planting activities\n• Sowing seeds of hope\, faith and love\nLearn about: local wildlife\, grow fresh peas\, to take home\nOther activities\n• Plant Stall: fruit\, vegetables and perennials; add a beautiful splash colour to your life!\n• Meet the local beekeepers; learn all about Honey making in SE6\n• Amateur radio station – live on air!\n• Refreshments available by Theresa @kitchenbuddy\nFreshly hand picked\, locally sourced Elderflower tonic\, herbal teas and raw chocolate treats (gluten-free)\n• Keep Britain Tidy: join our local litter picking campaign.\nMeet our Fix My Street local champion\n• Clean Air Campaign – testing kits installation\n• Mental Health Awareness: gardening may improve your mood!  Gardening outdoors\, in nature has positive impact on our well-being!\nLocation: Corner of Verdant Lane and Pasture Rd SE6.\nKeeping in touch\n@verdantlanelamp\n#keepbritaintidy\ntheresa@kitchenbuddies.eu\nwww.kitchenbuddies.eu\n\nMary and Theresa including Sidney watering the flowers.
URL:http://littlemisstree.co.uk/event/hither-green-festival-2019-the-verdant-lane-lamppost-community-garden-open-garden/
LOCATION:The Verdant Lane Lamppost Community Garden\, Corner of Verdant Lane and Pasture Rd\, Catford\, SE6 1LG\, United Kingdom
CATEGORIES:Open Gardens
ATTACH;FMTTYPE=image/jpeg:http://littlemisstree.co.uk/wp-content/uploads/2019/05/lamppostgarden-IMG_2414-750px.jpg
ORGANIZER;CN="Kitchen%20Buddy":MAILTO:theresa@kitchenbuddies.eu
END:VEVENT
BEGIN:VEVENT
DTSTART;TZID=UTC:20190424T133000
DTEND;TZID=UTC:20190424T153000
DTSTAMP:20260420T004423
CREATED:20190218T230147Z
LAST-MODIFIED:20190219T094247Z
UID:1729-1556112600-1556119800@littlemisstree.co.uk
SUMMARY:Yoga Teachers Forum London: Yoga and Food
DESCRIPTION:How yoga and our eating choices shape our environment. Poses for digestion\, balance and strengthening organs. How to enhance our yoga practice through spiritual nutrition and an ethical lifestyle. Our hedgerow heritage; foraging for our medicine\, as an act of spiritual nutrition and art. Yoga off the mat; balances in nature. Seasonal recipes & yin yoga with Theresa Webb. \nVideo: Theresa’s interview with Julia Davis
URL:http://littlemisstree.co.uk/event/yoga-teachers-forum-london-yoga-and-food/
LOCATION:Finchley Yoga\, Maple Close\,\, London\, N3 1AS\, United Kingdom
CATEGORIES:Yoga
ATTACH;FMTTYPE=image/jpeg:http://littlemisstree.co.uk/wp-content/uploads/2019/02/raw-food-sign-DSC02693-1074px-774px-Edit.jpg
ORGANIZER;CN="Finchley%20Yoga":MAILTO:julia@finchleyyoga.com
END:VEVENT
BEGIN:VEVENT
DTSTART;TZID=UTC:20190420T150000
DTEND;TZID=UTC:20190420T170000
DTSTAMP:20260420T004423
CREATED:20190415T210115Z
LAST-MODIFIED:20190418T162512Z
UID:1791-1555772400-1555779600@littlemisstree.co.uk
SUMMARY:Springtime Urban foraging: wild medicinal plants in Manor Park
DESCRIPTION:Nature’s secrets are just waiting to be discovered! \nEating wild foods\, seasonally enables us to improve our health in many ways (physically\, mentally and spiritually). \n \nOn this guided tour around Manor Park\, Theresa shares her local wild weeds’ plant wisdom from growing experience gained from over 13 years of foraging and consuming wild plants in and around UK. \nAfter the tour\, enjoy seasonal tasters of a fresh herbal tea and a Wild Pesto dressing. Plus create your own special seasonal wild image to take home and frame for Easter. \nPrices: Adults £14.00 *includes a Plant Art design of your choice!\nChildren under 12 (must be accompanied by a paid adult) FREE. \nBuy Tickets Here
URL:http://littlemisstree.co.uk/event/springtime-urban-foraging-wild-medicinal-plants-in-manor-park/
LOCATION:Arts Cafe\, Manor Park\, London\, UK\, SE13 5QZ\, United Kingdom
ATTACH;FMTTYPE=image/jpeg:http://littlemisstree.co.uk/wp-content/uploads/2019/04/manor-park-theresa-webb-foraging-e1555362779805.jpg
ORGANIZER;CN="Kitchen%20Buddy":MAILTO:theresa@kitchenbuddies.eu
END:VEVENT
BEGIN:VEVENT
DTSTART;TZID=UTC:20190217T130000
DTEND;TZID=UTC:20190217T150000
DTSTAMP:20260420T004423
CREATED:20190209T131043Z
LAST-MODIFIED:20190209T143538Z
UID:1710-1550408400-1550415600@littlemisstree.co.uk
SUMMARY:Kitchen Buddy's Wild Weed Walks: pick your own seasonal green salad!
DESCRIPTION:Find how leaves\, flowers (& later in the season\, seeds) are natural remedies in our kitchen; local food\, for free. \nPlant Art: design your own picture/imagery using cyanographic techniques\, to take home to frame. \nPrices: Adults tour only £12.50. Tour & art £22.50\nChildren free with an accompanying adult. \n“I’ll never buy another packet of mixed salad leaves again!” Arti (Hither Green Mountsfield Park Spring walk) \nFAQs \nAre there ID or minimum age requirements to enter the event? \nFamily friendly; all ages welcome.\nChildren under 12 yrs old *free* with accompanying adult \nWhat are my transport/parking options for getting to and from the event? \nRail: 5 mins walk from Hither Green train station. 15 mins from Lewisham Station\nBuses: 273\, 225\, 181\nLocal parking availability \nWhat can I bring into the event? \nWear sensible clothing (walking boots/shoes\, wet weather gear)\, gloves\, notebook and pen/pencil\, a collection bag (some soft cloth bags are provided).
URL:http://littlemisstree.co.uk/event/kitchen-buddys-wild-weed-walks-pick-your-own-seasonal-green-salad/
LOCATION:Arts Cafe\, Manor Park\, London\, UK\, SE13 5QZ\, United Kingdom
CATEGORIES:Foraging Walks
ATTACH;FMTTYPE=image/jpeg:http://littlemisstree.co.uk/wp-content/uploads/2019/01/kitchen-buddy-calendar-2019-theresa-webb-800x608px-portrait.jpg
ORGANIZER;CN="Kitchen%20Buddy":MAILTO:theresa@kitchenbuddies.eu
END:VEVENT
BEGIN:VEVENT
DTSTART;TZID=UTC:20190213T180000
DTEND;TZID=UTC:20190213T220000
DTSTAMP:20260420T004423
CREATED:20190209T142705Z
LAST-MODIFIED:20190209T143143Z
UID:1714-1550080800-1550095200@littlemisstree.co.uk
SUMMARY:That's Amore! Holistic Valentine's Festival of LoVe
DESCRIPTION:laha Tara will be hosting an event 13th Feb at The Old Baths\, London\, 6pm till 10pm. Come and immerse yourself within healing sounds\, dance\, a field of love\, delicious food\, amazing atmosphere and people\, live music and a Holistic Market. We will celebrate life and love.\nNo experience needed just an open heart and the wish to be happier and shine. \nThere is still space left to reserve a spot click on the link below\nhttps://www.facebook.com/events/1313855048755646/
URL:http://littlemisstree.co.uk/event/thats-amore-holistic-valentines-festival-of-love/
LOCATION:The Old Baths-Hackney Wick\, 80 Eastway\, London\, E9 5JH\, United Kingdom
CATEGORIES:Holistic
ATTACH;FMTTYPE=image/jpeg:http://littlemisstree.co.uk/wp-content/uploads/2019/02/festival-of-love.jpg
END:VEVENT
END:VCALENDAR